
BEGIN:VCALENDAR
VERSION:2.0
PRODID:-//85.13.138.186//NONSGML kigkonsult.se iCalcreator 2.20//
CALSCALE:GREGORIAN
METHOD:PUBLISH
X-WR-TIMEZONE:Europe/Berlin
BEGIN:VEVENT
UID:event8578@Ev.-luth. Gesamtkirchengemeinde Lehrte
DTSTAMP:20260422T084239Z
CATEGORIES:Ganze Gemeinde
DESCRIPTION:Selbsthilfegruppe Anonyme Alkoholiker AA\nCategory: Ganze Gemei
 nde\nLink: https://gkg.matthaeus-lehrte.de/index.php?option=com_jem&view=e
 vent&id=8578:selbsthilfegruppe-anonyme-alkoholiker-aa\n
DTSTART;TZID=Europe/Berlin:20260423T190000
DTEND;TZID=Europe/Berlin:20260423T203000
LOCATION:Familienzentrum
SUMMARY:Selbsthilfegruppe Anonyme Alkoholiker AA
URL:https://gkg.matthaeus-lehrte.de/index.php?option=com_jem&view=event&id=
 8578:selbsthilfegruppe-anonyme-alkoholiker-aa
END:VEVENT
END:VCALENDAR
