
BEGIN:VCALENDAR
VERSION:2.0
PRODID:-//85.13.138.186//NONSGML kigkonsult.se iCalcreator 2.20//
CALSCALE:GREGORIAN
METHOD:PUBLISH
X-WR-TIMEZONE:Europe/Berlin
BEGIN:VEVENT
UID:event10237@Ev.-luth. Gesamtkirchengemeinde Lehrte
DTSTAMP:20260420T141939Z
CATEGORIES:Gottesdienst/Andacht
DESCRIPTION:Taufgottesdienst (bei Bedarf)\nCategory: Gottesdienst/Andacht\n
 Link: https://gkg.matthaeus-lehrte.de/index.php?option=com_jem&view=event&
 id=10237:taufgottesdienst-bei-bedarf\n
DTSTART;TZID=Europe/Berlin:20260425T110000
DTEND;TZID=Europe/Berlin:20260425T110000
LOCATION:Markuskirche
SUMMARY:Taufgottesdienst (bei Bedarf)
URL:https://gkg.matthaeus-lehrte.de/index.php?option=com_jem&view=event&id=
 10237:taufgottesdienst-bei-bedarf
END:VEVENT
END:VCALENDAR
