
BEGIN:VCALENDAR
VERSION:2.0
PRODID:-//85.13.138.186//NONSGML kigkonsult.se iCalcreator 2.20//
CALSCALE:GREGORIAN
METHOD:PUBLISH
X-WR-TIMEZONE:Europe/Berlin
BEGIN:VEVENT
UID:event9093@Ev.-luth. Gesamtkirchengemeinde Lehrte
DTSTAMP:20260422T065039Z
CATEGORIES:Ganze Gemeinde
DESCRIPTION:Seniorenkreis\nCategory: Ganze Gemeinde\nLink: http://gkg.matth
 aeus-lehrte.de/index.php?option=com_jem&view=event&id=9093:seniorenkreis\n
DTSTART;TZID=Europe/Berlin:20260427T150000
DTEND;TZID=Europe/Berlin:20260427T180000
LOCATION:Gemeindehaus
SUMMARY:Seniorenkreis
URL:http://gkg.matthaeus-lehrte.de/index.php?option=com_jem&view=event&id=9
 093:seniorenkreis
END:VEVENT
END:VCALENDAR
